BEGIN:VCALENDAR
VERSION:2.0
PRODID:-//| Gemeinde Churwalden - ECPv6.15.18//NONSGML v1.0//EN
CALSCALE:GREGORIAN
METHOD:PUBLISH
X-WR-CALNAME:| Gemeinde Churwalden
X-ORIGINAL-URL:https://churwalden.ch
X-WR-CALDESC:Veranstaltungen für | Gemeinde Churwalden
REFRESH-INTERVAL;VALUE=DURATION:PT1H
X-Robots-Tag:noindex
X-PUBLISHED-TTL:PT1H
BEGIN:VTIMEZONE
TZID:Europe/Berlin
BEGIN:DAYLIGHT
TZOFFSETFROM:+0100
TZOFFSETTO:+0200
TZNAME:CEST
DTSTART:20230326T010000
END:DAYLIGHT
BEGIN:STANDARD
TZOFFSETFROM:+0200
TZOFFSETTO:+0100
TZNAME:CET
DTSTART:20231029T010000
END:STANDARD
BEGIN:DAYLIGHT
TZOFFSETFROM:+0100
TZOFFSETTO:+0200
TZNAME:CEST
DTSTART:20240331T010000
END:DAYLIGHT
BEGIN:STANDARD
TZOFFSETFROM:+0200
TZOFFSETTO:+0100
TZNAME:CET
DTSTART:20241027T010000
END:STANDARD
BEGIN:DAYLIGHT
TZOFFSETFROM:+0100
TZOFFSETTO:+0200
TZNAME:CEST
DTSTART:20250330T010000
END:DAYLIGHT
BEGIN:STANDARD
TZOFFSETFROM:+0200
TZOFFSETTO:+0100
TZNAME:CET
DTSTART:20251026T010000
END:STANDARD
END:VTIMEZONE
BEGIN:VEVENT
DTSTART;TZID=Europe/Berlin:20241019T180000
DTEND;TZID=Europe/Berlin:20241019T230000
DTSTAMP:20260425T154229
CREATED:20240906T055820Z
LAST-MODIFIED:20240906T055820Z
UID:31629-1729360800-1729378800@churwalden.ch
SUMMARY:Kulturabend
DESCRIPTION:Zur Einstimmung auf den Begegnungstag findet zudem am 19. Oktober 2024 ab 18:00 Uhr ein bunter Kulturabend mit Chorgesang\, Blasmusik\, Alphorn- und Tambouren-Klängen sowie Tanz und Theater im Kultursaal Lenzerheide statt. Da die Platzzahl beschränkt ist\, ist eine Anmeldung unter www.lenzerheide.swiss/kulturabend obligatorisch. \nDas Plakat für den Kulturabend kann hier heruntergeladen werden.
URL:https://churwalden.ch/kalender/kulturabend-2/
LOCATION:Kultursaal Lenzerheide\, 7078 Lenzerheide
END:VEVENT
BEGIN:VEVENT
DTSTART;TZID=Europe/Berlin:20241019T193000
DTEND;TZID=Europe/Berlin:20241019T220000
DTSTAMP:20260425T154229
CREATED:20240926T080933Z
LAST-MODIFIED:20240926T080933Z
UID:31862-1729366200-1729375200@churwalden.ch
SUMMARY:IGB Treff - Thema Wolf
DESCRIPTION:Nähere Informationen zum nächsten IGB Treff sind im Flyer zu finden.
URL:https://churwalden.ch/kalender/igb-treff-thema-wolf/
LOCATION:Malixerhof\, Brambrüeschstrasse 204\, Malix\, 7074
END:VEVENT
END:VCALENDAR