BEGIN:VCALENDAR
VERSION:2.0
PRODID:-//| Gemeinde Churwalden - ECPv6.15.18//NONSGML v1.0//EN
CALSCALE:GREGORIAN
METHOD:PUBLISH
X-ORIGINAL-URL:https://churwalden.ch
X-WR-CALDESC:Veranstaltungen für | Gemeinde Churwalden
REFRESH-INTERVAL;VALUE=DURATION:PT1H
X-Robots-Tag:noindex
X-PUBLISHED-TTL:PT1H
BEGIN:VTIMEZONE
TZID:Europe/Berlin
BEGIN:DAYLIGHT
TZOFFSETFROM:+0100
TZOFFSETTO:+0200
TZNAME:CEST
DTSTART:20240331T010000
END:DAYLIGHT
BEGIN:STANDARD
TZOFFSETFROM:+0200
TZOFFSETTO:+0100
TZNAME:CET
DTSTART:20241027T010000
END:STANDARD
BEGIN:DAYLIGHT
TZOFFSETFROM:+0100
TZOFFSETTO:+0200
TZNAME:CEST
DTSTART:20250330T010000
END:DAYLIGHT
BEGIN:STANDARD
TZOFFSETFROM:+0200
TZOFFSETTO:+0100
TZNAME:CET
DTSTART:20251026T010000
END:STANDARD
BEGIN:DAYLIGHT
TZOFFSETFROM:+0100
TZOFFSETTO:+0200
TZNAME:CEST
DTSTART:20260329T010000
END:DAYLIGHT
BEGIN:STANDARD
TZOFFSETFROM:+0200
TZOFFSETTO:+0100
TZNAME:CET
DTSTART:20261025T010000
END:STANDARD
END:VTIMEZONE
BEGIN:VEVENT
DTSTART;TZID=Europe/Berlin:20250503T170000
DTEND;TZID=Europe/Berlin:20250503T200000
DTSTAMP:20260425T195528
CREATED:20250314T094500Z
LAST-MODIFIED:20250314T094556Z
UID:32950-1746291600-1746302400@churwalden.ch
SUMMARY:3. Kulturobig
DESCRIPTION:Lorenzo Zanetti wird über die «frostige» Entstehung der Naturlandschaft und von der fesselnden Entwicklung von Brambrüesch und seiner Umgebung vom beschaulichen Maiensäss zum lebendigen Feriensäss erzählen. \nPersonen\, welche ab Malix Post eine Fahrgelegenheit benötigen\, bitten wir\, sich bis spätestens 02.05.2025\, 16.00 Uhr\, bei der Gemeinde anzumelden (081 382 00 29 oder yvonne.bischofberger@churwalden.ch) \nWir freuen uns auf ihre Teilnahme\, spannenden Gespräche und einen gemütlichen Apéro.
URL:https://churwalden.ch/kalender/3-kulturobig/
LOCATION:Bergbaiz Brambrüesch\, 7074 Malix
ORGANIZER;CN="Gemeinde Churwalden":MAILTO:gemeinde@churwalden.ch
END:VEVENT
END:VCALENDAR