BEGIN:VCALENDAR
VERSION:2.0
PRODID:-//| Gemeinde Churwalden - ECPv6.15.18//NONSGML v1.0//EN
CALSCALE:GREGORIAN
METHOD:PUBLISH
X-WR-CALNAME:| Gemeinde Churwalden
X-ORIGINAL-URL:https://churwalden.ch
X-WR-CALDESC:Veranstaltungen für | Gemeinde Churwalden
REFRESH-INTERVAL;VALUE=DURATION:PT1H
X-Robots-Tag:noindex
X-PUBLISHED-TTL:PT1H
BEGIN:VTIMEZONE
TZID:Europe/Berlin
BEGIN:DAYLIGHT
TZOFFSETFROM:+0100
TZOFFSETTO:+0200
TZNAME:CEST
DTSTART:20240331T010000
END:DAYLIGHT
BEGIN:STANDARD
TZOFFSETFROM:+0200
TZOFFSETTO:+0100
TZNAME:CET
DTSTART:20241027T010000
END:STANDARD
BEGIN:DAYLIGHT
TZOFFSETFROM:+0100
TZOFFSETTO:+0200
TZNAME:CEST
DTSTART:20250330T010000
END:DAYLIGHT
BEGIN:STANDARD
TZOFFSETFROM:+0200
TZOFFSETTO:+0100
TZNAME:CET
DTSTART:20251026T010000
END:STANDARD
BEGIN:DAYLIGHT
TZOFFSETFROM:+0100
TZOFFSETTO:+0200
TZNAME:CEST
DTSTART:20260329T010000
END:DAYLIGHT
BEGIN:STANDARD
TZOFFSETFROM:+0200
TZOFFSETTO:+0100
TZNAME:CET
DTSTART:20261025T010000
END:STANDARD
END:VTIMEZONE
BEGIN:VEVENT
DTSTART;TZID=Europe/Berlin:20250617T200000
DTEND;TZID=Europe/Berlin:20250617T220000
DTSTAMP:20260425T223916
CREATED:20210723T152740Z
LAST-MODIFIED:20241209T071037Z
UID:24499-1750190400-1750197600@churwalden.ch
SUMMARY:Gemeindeversammlung
DESCRIPTION:
URL:https://churwalden.ch/kalender/gemeindeversammlung/
LOCATION:Gemeindesaal\, Witiwäg\, Churwalden\, 7075\, Schweiz
ORGANIZER;CN="Gemeinde Churwalden":MAILTO:gemeinde@churwalden.ch
END:VEVENT
END:VCALENDAR