BEGIN:VCALENDAR
VERSION:2.0
PRODID:-//| Gemeinde Churwalden - ECPv6.15.18//NONSGML v1.0//EN
CALSCALE:GREGORIAN
METHOD:PUBLISH
X-ORIGINAL-URL:https://churwalden.ch
X-WR-CALDESC:Veranstaltungen für | Gemeinde Churwalden
REFRESH-INTERVAL;VALUE=DURATION:PT1H
X-Robots-Tag:noindex
X-PUBLISHED-TTL:PT1H
BEGIN:VTIMEZONE
TZID:Europe/Berlin
BEGIN:DAYLIGHT
TZOFFSETFROM:+0100
TZOFFSETTO:+0200
TZNAME:CEST
DTSTART:20240331T010000
END:DAYLIGHT
BEGIN:STANDARD
TZOFFSETFROM:+0200
TZOFFSETTO:+0100
TZNAME:CET
DTSTART:20241027T010000
END:STANDARD
BEGIN:DAYLIGHT
TZOFFSETFROM:+0100
TZOFFSETTO:+0200
TZNAME:CEST
DTSTART:20250330T010000
END:DAYLIGHT
BEGIN:STANDARD
TZOFFSETFROM:+0200
TZOFFSETTO:+0100
TZNAME:CET
DTSTART:20251026T010000
END:STANDARD
BEGIN:DAYLIGHT
TZOFFSETFROM:+0100
TZOFFSETTO:+0200
TZNAME:CEST
DTSTART:20260329T010000
END:DAYLIGHT
BEGIN:STANDARD
TZOFFSETFROM:+0200
TZOFFSETTO:+0100
TZNAME:CET
DTSTART:20261025T010000
END:STANDARD
END:VTIMEZONE
BEGIN:VEVENT
DTSTART;TZID=Europe/Berlin:20250913T110000
DTEND;TZID=Europe/Berlin:20250913T170000
DTSTAMP:20260426T033254
CREATED:20240408T063518Z
LAST-MODIFIED:20250721T140049Z
UID:29629-1757761200-1757782800@churwalden.ch
SUMMARY:EHL Passugg - Foodfestival
DESCRIPTION:Alle Details finden Sie im Flyer. \n 
URL:https://churwalden.ch/kalender/ehl-passugg-kurzlehrgang-suppen/
LOCATION:EHL Hotelfachschule Passugg\, Hauptstrasse 12\, Passugg\, Passugg\, Schweiz
END:VEVENT
END:VCALENDAR