BEGIN:VCALENDAR
VERSION:2.0
PRODID:-//| Gemeinde Churwalden - ECPv6.15.18//NONSGML v1.0//EN
CALSCALE:GREGORIAN
METHOD:PUBLISH
X-ORIGINAL-URL:https://churwalden.ch
X-WR-CALDESC:Veranstaltungen für | Gemeinde Churwalden
REFRESH-INTERVAL;VALUE=DURATION:PT1H
X-Robots-Tag:noindex
X-PUBLISHED-TTL:PT1H
BEGIN:VTIMEZONE
TZID:Europe/Berlin
BEGIN:DAYLIGHT
TZOFFSETFROM:+0100
TZOFFSETTO:+0200
TZNAME:CEST
DTSTART:20240331T010000
END:DAYLIGHT
BEGIN:STANDARD
TZOFFSETFROM:+0200
TZOFFSETTO:+0100
TZNAME:CET
DTSTART:20241027T010000
END:STANDARD
BEGIN:DAYLIGHT
TZOFFSETFROM:+0100
TZOFFSETTO:+0200
TZNAME:CEST
DTSTART:20250330T010000
END:DAYLIGHT
BEGIN:STANDARD
TZOFFSETFROM:+0200
TZOFFSETTO:+0100
TZNAME:CET
DTSTART:20251026T010000
END:STANDARD
BEGIN:DAYLIGHT
TZOFFSETFROM:+0100
TZOFFSETTO:+0200
TZNAME:CEST
DTSTART:20260329T010000
END:DAYLIGHT
BEGIN:STANDARD
TZOFFSETFROM:+0200
TZOFFSETTO:+0100
TZNAME:CET
DTSTART:20261025T010000
END:STANDARD
END:VTIMEZONE
BEGIN:VEVENT
DTSTART;TZID=Europe/Berlin:20250411T200000
DTEND;TZID=Europe/Berlin:20250411T220000
DTSTAMP:20260425T183813
CREATED:20180327T114957Z
LAST-MODIFIED:20250403T143527Z
UID:20386-1744401600-1744408800@churwalden.ch
SUMMARY:Kirchgemeindeversammlung Katholische Kirchgemeinde Churwalden-Malix-Parpan
DESCRIPTION:
URL:https://churwalden.ch/kalender/kirchgemeindeversammlung-katholische-kirchgemeinde-churwalden-malix-parpan/
LOCATION:Klostersaal\, Churwalden\, 7075\, Schweiz
END:VEVENT
END:VCALENDAR