BEGIN:VCALENDAR
VERSION:2.0
PRODID:-//| Gemeinde Churwalden - ECPv6.15.18//NONSGML v1.0//EN
CALSCALE:GREGORIAN
METHOD:PUBLISH
X-WR-CALNAME:| Gemeinde Churwalden
X-ORIGINAL-URL:https://churwalden.ch
X-WR-CALDESC:Veranstaltungen für | Gemeinde Churwalden
REFRESH-INTERVAL;VALUE=DURATION:PT1H
X-Robots-Tag:noindex
X-PUBLISHED-TTL:PT1H
BEGIN:VTIMEZONE
TZID:Europe/Berlin
BEGIN:DAYLIGHT
TZOFFSETFROM:+0100
TZOFFSETTO:+0200
TZNAME:CEST
DTSTART:20240331T010000
END:DAYLIGHT
BEGIN:STANDARD
TZOFFSETFROM:+0200
TZOFFSETTO:+0100
TZNAME:CET
DTSTART:20241027T010000
END:STANDARD
BEGIN:DAYLIGHT
TZOFFSETFROM:+0100
TZOFFSETTO:+0200
TZNAME:CEST
DTSTART:20250330T010000
END:DAYLIGHT
BEGIN:STANDARD
TZOFFSETFROM:+0200
TZOFFSETTO:+0100
TZNAME:CET
DTSTART:20251026T010000
END:STANDARD
BEGIN:DAYLIGHT
TZOFFSETFROM:+0100
TZOFFSETTO:+0200
TZNAME:CEST
DTSTART:20260329T010000
END:DAYLIGHT
BEGIN:STANDARD
TZOFFSETFROM:+0200
TZOFFSETTO:+0100
TZNAME:CET
DTSTART:20261025T010000
END:STANDARD
END:VTIMEZONE
BEGIN:VEVENT
DTSTART;TZID=Europe/Berlin:20250801T160000
DTEND;TZID=Europe/Berlin:20250801T235900
DTSTAMP:20260426T012951
CREATED:20210723T153325Z
LAST-MODIFIED:20250714T152520Z
UID:24506-1754064000-1754092740@churwalden.ch
SUMMARY:1. August - Bundesfeier
DESCRIPTION:Die offizielle Feier findet in Parpan statt. Die Details finden Sie im Flyer.
URL:https://churwalden.ch/kalender/1-august-bundesfeier/
END:VEVENT
BEGIN:VEVENT
DTSTART;TZID=Europe/Berlin:20250801T180000
DTEND;TZID=Europe/Berlin:20250801T230000
DTSTAMP:20260426T012951
CREATED:20230724T153259Z
LAST-MODIFIED:20250625T063519Z
UID:27446-1754071200-1754089200@churwalden.ch
SUMMARY:Velokino Brambrüesch
DESCRIPTION:
URL:https://churwalden.ch/kalender/velokino-brambrueesch/
LOCATION:Edelweisshütte Brambrüesch
END:VEVENT
BEGIN:VEVENT
DTSTART;TZID=Europe/Berlin:20250807T100000
DTEND;TZID=Europe/Berlin:20250807T120000
DTSTAMP:20260426T012951
CREATED:20250314T095929Z
LAST-MODIFIED:20250314T095929Z
UID:32958-1754560800-1754568000@churwalden.ch
SUMMARY:Dorfführung in Churwalden
DESCRIPTION:Wussten Sie\, dass Churwalden einst eine bedeutende Station auf der Handelsroute nach Italien war? Schon Römer und Kaufleute des Mittelalters zogen durch dieses Tal. Hier wurden Pferde gewechselt\, Reisende rasteten\, und Kurgäste genossen die frische Alpenluft und die heilende Molke.\nHeute ist Churwalden das Tor zur Ferienregion Arosa–Lenzerheide – doch seine Geschichte lebt weiter! Entdecken Sie die Wiege des berühmten Bündnerfleisches\, erfahren Sie\, was das Tavetscher Schaf mit unserem Kantonsnamen zu tun hat\, und tauchen Sie ein in die faszinierende Vergangenheit dieses besonderen Ortes.\nKommen Sie mit auf eine Reise durch die Zeit! \nAnmeldung online oder telefonisch bis am Vortag um 16.00 Uhr unter +41 77 446 73 61 oder info@kulturampass.ch. \nDie Führung dauert ca. 1.5 Stunden. \nTreffpunkt um : Churwalden\, Posthaltestelle Furnerschhus Fahrtrichtung Chur (Start). Parplätze der Fleischtrocknerei Grischuna (neben Posthaltestelle) dürfen benützt werden. Ende: Posthaltestelle Churwalden Bergbahnen (bei Migros). \nPrivate Führungen: CHF 180.00\, Termine nach Vereinbarung
URL:https://churwalden.ch/kalender/dorffuehrung-in-churwalden-4/
ORGANIZER;CN="Kulturampass":MAILTO:info@kulturampass.ch
END:VEVENT
BEGIN:VEVENT
DTSTART;TZID=Europe/Berlin:20250808T080000
DTEND;TZID=Europe/Berlin:20250810T170000
DTSTAMP:20260426T012951
CREATED:20250625T064219Z
LAST-MODIFIED:20250625T064219Z
UID:33510-1754640000-1754845200@churwalden.ch
SUMMARY:Fids Openair in den Steinen
DESCRIPTION:
URL:https://churwalden.ch/kalender/fids-openair-in-den-steinen/
END:VEVENT
BEGIN:VEVENT
DTSTART;TZID=Europe/Berlin:20250817T103000
DTEND;TZID=Europe/Berlin:20250817T113000
DTSTAMP:20260426T012951
CREATED:20231006T073343Z
LAST-MODIFIED:20250625T063739Z
UID:27633-1755426600-1755430200@churwalden.ch
SUMMARY:Berggottesdienst Brambrüesch
DESCRIPTION:  \n 
URL:https://churwalden.ch/kalender/urban-cross-golf-turnier-chur-brambrueesch/
END:VEVENT
BEGIN:VEVENT
DTSTART;TZID=Europe/Berlin:20250821T180000
DTEND;TZID=Europe/Berlin:20250821T200000
DTSTAMP:20260426T012951
CREATED:20250314T100020Z
LAST-MODIFIED:20250314T100020Z
UID:32963-1755799200-1755806400@churwalden.ch
SUMMARY:Dorfführung in Churwalden
DESCRIPTION:Wussten Sie\, dass Churwalden einst eine bedeutende Station auf der Handelsroute nach Italien war? Schon Römer und Kaufleute des Mittelalters zogen durch dieses Tal. Hier wurden Pferde gewechselt\, Reisende rasteten\, und Kurgäste genossen die frische Alpenluft und die heilende Molke.\nHeute ist Churwalden das Tor zur Ferienregion Arosa–Lenzerheide – doch seine Geschichte lebt weiter! Entdecken Sie die Wiege des berühmten Bündnerfleisches\, erfahren Sie\, was das Tavetscher Schaf mit unserem Kantonsnamen zu tun hat\, und tauchen Sie ein in die faszinierende Vergangenheit dieses besonderen Ortes.\nKommen Sie mit auf eine Reise durch die Zeit! \nAnmeldung online oder telefonisch bis am Vortag um 16.00 Uhr unter +41 77 446 73 61 oder info@kulturampass.ch. \nDie Führung dauert ca. 1.5 Stunden. \nTreffpunkt um : Churwalden\, Posthaltestelle Furnerschhus Fahrtrichtung Chur (Start). Parplätze der Fleischtrocknerei Grischuna (neben Posthaltestelle) dürfen benützt werden. Ende: Posthaltestelle Churwalden Bergbahnen (bei Migros). \nPrivate Führungen: CHF 180.00\, Termine nach Vereinbarung
URL:https://churwalden.ch/kalender/dorffuehrung-in-churwalden-5/
ORGANIZER;CN="Kulturampass":MAILTO:info@kulturampass.ch
END:VEVENT
BEGIN:VEVENT
DTSTART;TZID=Europe/Berlin:20250822T080000
DTEND;TZID=Europe/Berlin:20250823T235900
DTSTAMP:20260426T012951
CREATED:20250625T064342Z
LAST-MODIFIED:20250625T072651Z
UID:33512-1755849600-1755993540@churwalden.ch
SUMMARY:Sommerfest
DESCRIPTION:Riedplatz Churwalden
URL:https://churwalden.ch/kalender/sommerfest/
END:VEVENT
BEGIN:VEVENT
DTSTART;TZID=Europe/Berlin:20250824T080000
DTEND;TZID=Europe/Berlin:20250824T170000
DTSTAMP:20260426T012951
CREATED:20240826T153122Z
LAST-MODIFIED:20240826T153122Z
UID:31563-1756022400-1756054800@churwalden.ch
SUMMARY:Musik für Alle - Brambrüesch
DESCRIPTION:
URL:https://churwalden.ch/kalender/musik-fuer-alle-brambrueesch/
END:VEVENT
END:VCALENDAR