BEGIN:VCALENDAR
VERSION:2.0
PRODID:-//| Gemeinde Churwalden - ECPv6.15.18//NONSGML v1.0//EN
CALSCALE:GREGORIAN
METHOD:PUBLISH
X-ORIGINAL-URL:https://churwalden.ch
X-WR-CALDESC:Veranstaltungen für | Gemeinde Churwalden
REFRESH-INTERVAL;VALUE=DURATION:PT1H
X-Robots-Tag:noindex
X-PUBLISHED-TTL:PT1H
BEGIN:VTIMEZONE
TZID:Europe/Berlin
BEGIN:DAYLIGHT
TZOFFSETFROM:+0100
TZOFFSETTO:+0200
TZNAME:CEST
DTSTART:20240331T010000
END:DAYLIGHT
BEGIN:STANDARD
TZOFFSETFROM:+0200
TZOFFSETTO:+0100
TZNAME:CET
DTSTART:20241027T010000
END:STANDARD
BEGIN:DAYLIGHT
TZOFFSETFROM:+0100
TZOFFSETTO:+0200
TZNAME:CEST
DTSTART:20250330T010000
END:DAYLIGHT
BEGIN:STANDARD
TZOFFSETFROM:+0200
TZOFFSETTO:+0100
TZNAME:CET
DTSTART:20251026T010000
END:STANDARD
BEGIN:DAYLIGHT
TZOFFSETFROM:+0100
TZOFFSETTO:+0200
TZNAME:CEST
DTSTART:20260329T010000
END:DAYLIGHT
BEGIN:STANDARD
TZOFFSETFROM:+0200
TZOFFSETTO:+0100
TZNAME:CET
DTSTART:20261025T010000
END:STANDARD
END:VTIMEZONE
BEGIN:VEVENT
DTSTART;TZID=Europe/Berlin:20250904T100000
DTEND;TZID=Europe/Berlin:20250904T120000
DTSTAMP:20260426T014837
CREATED:20250314T100049Z
LAST-MODIFIED:20250314T100049Z
UID:32964-1756980000-1756987200@churwalden.ch
SUMMARY:Dorfführung in Churwalden
DESCRIPTION:Wussten Sie\, dass Churwalden einst eine bedeutende Station auf der Handelsroute nach Italien war? Schon Römer und Kaufleute des Mittelalters zogen durch dieses Tal. Hier wurden Pferde gewechselt\, Reisende rasteten\, und Kurgäste genossen die frische Alpenluft und die heilende Molke.\nHeute ist Churwalden das Tor zur Ferienregion Arosa–Lenzerheide – doch seine Geschichte lebt weiter! Entdecken Sie die Wiege des berühmten Bündnerfleisches\, erfahren Sie\, was das Tavetscher Schaf mit unserem Kantonsnamen zu tun hat\, und tauchen Sie ein in die faszinierende Vergangenheit dieses besonderen Ortes.\nKommen Sie mit auf eine Reise durch die Zeit! \nAnmeldung online oder telefonisch bis am Vortag um 16.00 Uhr unter +41 77 446 73 61 oder info@kulturampass.ch. \nDie Führung dauert ca. 1.5 Stunden. \nTreffpunkt um : Churwalden\, Posthaltestelle Furnerschhus Fahrtrichtung Chur (Start). Parplätze der Fleischtrocknerei Grischuna (neben Posthaltestelle) dürfen benützt werden. Ende: Posthaltestelle Churwalden Bergbahnen (bei Migros). \nPrivate Führungen: CHF 180.00\, Termine nach Vereinbarung
URL:https://churwalden.ch/kalender/dorffuehrung-in-churwalden-6/
ORGANIZER;CN="Kulturampass":MAILTO:info@kulturampass.ch
END:VEVENT
BEGIN:VEVENT
DTSTART;TZID=Europe/Berlin:20250913T110000
DTEND;TZID=Europe/Berlin:20250913T170000
DTSTAMP:20260426T014837
CREATED:20240408T063518Z
LAST-MODIFIED:20250721T140049Z
UID:29629-1757761200-1757782800@churwalden.ch
SUMMARY:EHL Passugg - Foodfestival
DESCRIPTION:Alle Details finden Sie im Flyer. \n 
URL:https://churwalden.ch/kalender/ehl-passugg-kurzlehrgang-suppen/
LOCATION:EHL Hotelfachschule Passugg\, Hauptstrasse 12\, Passugg\, Passugg\, Schweiz
END:VEVENT
BEGIN:VEVENT
DTSTART;TZID=Europe/Berlin:20250918T100000
DTEND;TZID=Europe/Berlin:20250918T120000
DTSTAMP:20260426T014837
CREATED:20250314T100120Z
LAST-MODIFIED:20250314T100120Z
UID:32967-1758189600-1758196800@churwalden.ch
SUMMARY:Dorfführung in Churwalden
DESCRIPTION:Wussten Sie\, dass Churwalden einst eine bedeutende Station auf der Handelsroute nach Italien war? Schon Römer und Kaufleute des Mittelalters zogen durch dieses Tal. Hier wurden Pferde gewechselt\, Reisende rasteten\, und Kurgäste genossen die frische Alpenluft und die heilende Molke.\nHeute ist Churwalden das Tor zur Ferienregion Arosa–Lenzerheide – doch seine Geschichte lebt weiter! Entdecken Sie die Wiege des berühmten Bündnerfleisches\, erfahren Sie\, was das Tavetscher Schaf mit unserem Kantonsnamen zu tun hat\, und tauchen Sie ein in die faszinierende Vergangenheit dieses besonderen Ortes.\nKommen Sie mit auf eine Reise durch die Zeit! \nAnmeldung online oder telefonisch bis am Vortag um 16.00 Uhr unter +41 77 446 73 61 oder info@kulturampass.ch. \nDie Führung dauert ca. 1.5 Stunden. \nTreffpunkt um : Churwalden\, Posthaltestelle Furnerschhus Fahrtrichtung Chur (Start). Parplätze der Fleischtrocknerei Grischuna (neben Posthaltestelle) dürfen benützt werden. Ende: Posthaltestelle Churwalden Bergbahnen (bei Migros). \nPrivate Führungen: CHF 180.00\, Termine nach Vereinbarung
URL:https://churwalden.ch/kalender/dorffuehrung-in-churwalden-7/
ORGANIZER;CN="Kulturampass":MAILTO:info@kulturampass.ch
END:VEVENT
BEGIN:VEVENT
DTSTART;TZID=Europe/Berlin:20250922T173000
DTEND;TZID=Europe/Berlin:20250922T213000
DTSTAMP:20260426T014837
CREATED:20250822T122000Z
LAST-MODIFIED:20250822T122000Z
UID:33806-1758562200-1758576600@churwalden.ch
SUMMARY:EHL Passugg - Kockurs: Wild auf Wild - herbstlich & aromatisch
DESCRIPTION:Alle Details finden Sie im Flyer. \n 
URL:https://churwalden.ch/kalender/ehl-passugg-kockurs-wild-auf-wild-herbstlich-aromatisch/
LOCATION:EHL Hotelfachschule Passugg\, Hauptstrasse 12\, Passugg\, Passugg\, Schweiz
END:VEVENT
END:VCALENDAR